BEGIN:VCALENDAR
VERSION:2.0
PRODID:-//Kayla Renee, Stampin&#039; Up! Demonstrator - ECPv6.15.17.1//NONSGML v1.0//EN
CALSCALE:GREGORIAN
METHOD:PUBLISH
X-ORIGINAL-URL:https://kaylarenee.com
X-WR-CALDESC:Events for Kayla Renee, Stampin&#039; Up! Demonstrator
REFRESH-INTERVAL;VALUE=DURATION:PT1H
X-Robots-Tag:noindex
X-PUBLISHED-TTL:PT1H
BEGIN:VTIMEZONE
TZID:Australia/Sydney
BEGIN:STANDARD
TZOFFSETFROM:+1100
TZOFFSETTO:+1000
TZNAME:AEST
DTSTART:20240406T160000
END:STANDARD
BEGIN:DAYLIGHT
TZOFFSETFROM:+1000
TZOFFSETTO:+1100
TZNAME:AEDT
DTSTART:20241005T160000
END:DAYLIGHT
BEGIN:STANDARD
TZOFFSETFROM:+1100
TZOFFSETTO:+1000
TZNAME:AEST
DTSTART:20250405T160000
END:STANDARD
BEGIN:DAYLIGHT
TZOFFSETFROM:+1000
TZOFFSETTO:+1100
TZNAME:AEDT
DTSTART:20251004T160000
END:DAYLIGHT
BEGIN:STANDARD
TZOFFSETFROM:+1100
TZOFFSETTO:+1000
TZNAME:AEST
DTSTART:20260404T160000
END:STANDARD
BEGIN:DAYLIGHT
TZOFFSETFROM:+1000
TZOFFSETTO:+1100
TZNAME:AEDT
DTSTART:20261003T160000
END:DAYLIGHT
END:VTIMEZONE
BEGIN:VEVENT
DTSTART;VALUE=DATE:20251102
DTEND;VALUE=DATE:20251114
DTSTAMP:20260420T055246
CREATED:20250811T071831Z
LAST-MODIFIED:20250811T071831Z
UID:10635-1762041600-1763078399@kaylarenee.com
SUMMARY:The Stamping Lounge - 12 Days of Christmas
DESCRIPTION:🎄 The Stamping Lounge – 12 Days of Christmas Challenge 🎄Get ready for 12 days of festive fun! Follow along on The Stamping Lounge Facebook page from November 2nd for twelve days as we post daily creative challenges to spark your holiday crafting spirit. 🎨✨ \nWant even more inspiration? Become a Stamping Lounge Member and unlock the three exclusive tutorials every single day of the challenge – that’s 36 projects to keep you crafting right through the holidays! 🎁 \nJoin the fun\, share your creations\, and let’s make this the most creative Christmas yet! ❤️
URL:https://kaylarenee.com/event/the-stamping-lounge-12-days-of-christmas/
LOCATION:www.thestampinglounge.com
CATEGORIES:The Stamping Lounge
ATTACH;FMTTYPE=image/jpeg:https://kaylarenee.com/wp-content/uploads/2025/08/Calendar-Thumbnail-for-Event-Calendar.jpg
ORGANIZER;CN="Kayla Renee":MAILTO:kayla@kaylarenee.com
END:VEVENT
END:VCALENDAR